BEGIN:VCALENDAR
VERSION:2.0
PRODID:-//HMHOF - ECPv6.15.11//NONSGML v1.0//EN
CALSCALE:GREGORIAN
METHOD:PUBLISH
X-WR-CALNAME:HMHOF
X-ORIGINAL-URL:https://hmhof.org
X-WR-CALDESC:Events for HMHOF
REFRESH-INTERVAL;VALUE=DURATION:PT1H
X-Robots-Tag:noindex
X-PUBLISHED-TTL:PT1H
BEGIN:VTIMEZONE
TZID:Pacific/Honolulu
BEGIN:STANDARD
TZOFFSETFROM:-1000
TZOFFSETTO:-1000
TZNAME:HST
DTSTART:20220101T000000
END:STANDARD
END:VTIMEZONE
BEGIN:VTIMEZONE
TZID:UTC
BEGIN:STANDARD
TZOFFSETFROM:+0000
TZOFFSETTO:+0000
TZNAME:UTC
DTSTART:20190101T000000
END:STANDARD
END:VTIMEZONE
BEGIN:VEVENT
DTSTART;TZID=Pacific/Honolulu:20251115T110000
DTEND;TZID=Pacific/Honolulu:20251115T140000
DTSTAMP:20260423T063053
CREATED:20250910T181346Z
LAST-MODIFIED:20250910T182342Z
UID:5913-1763204400-1763215200@hmhof.org
SUMMARY:HMHOF Lei of Stars 2025
DESCRIPTION:[vc_row][vc_column][vc_raw_html]JTNDc3R5bGUlM0UlMEEudHJpYmUtZXZlbnRzLWJlZm9yZS1odG1sYm4lN0IlMEElMjAlMjAlMjAlMjBkaXNwbGF5JTNBbm9uZSUyMWltcG9ydGFudCUzQiUwQSU3RCUwQS50cmliZS1ldmVudHMtZXZlbnQtaW1hZ2UlMjAlN0IlMEElMjAlMjAlMjAlMjBkaXNwbGF5JTNBbm9uZSUyMWltcG9ydGFudCUzQiUwQSU3RCUwQS5jb250YWluZXIlMjAlMjNwYWdlLXRpdGxlJTIwJTdCJTBBJTIwJTIwJTIwJTIwZGlzcGxheSUzQW5vbmUlMjFpbXBvcnRhbnQlM0IlMEElN0QlMEElMEEuYnJlYWRjcnVtYnMtY29udGFpbmVyJTIwJTdCJTBBJTIwJTIwJTIwJTIwZGlzcGxheSUzQW5vbmUlM0IlMEElN0QlMEElMEEucGFnZS10aXRsZS1ibG9jayUyMCU3QiUwQSUyMCUyMCUyMCUyMGJhY2tncm91bmQtY29sb3IlM0ElMjAlMjMwMkE4OUMlMjFpbXBvcnRhbnQlM0IlMEElMjAlMjAlMjAlMjBwYWRkaW5nLXRvcCUzQSUyMDI1cHglMjFpbXBvcnRhbnQlM0IlMEElMjAlMjAlMjAlMjBwYWRkaW5nLWJvdHRvbSUzQSUyMDI1cHglMjFpbXBvcnRhbnQlM0IlMEElN0QlMEEuYmxvY2stY29udGVudCUyMCU3QiUwQSUyMCUyMCUyMCUyMHBhZGRpbmctdG9wJTNBJTIwMCUzQiUwQSU3RCUwQSUzQyUyRnN0eWxlJTNF[/vc_raw_html][vc_row_inner equal_height=”yes” content_placement=”middle”][vc_column_inner width=”2/3″][vc_column_text] \nHAWAIIAN MUSIC HALL OF FAME\npresents \nLei of Stars 2025\nSATURDAY NOVEMBER 15\, 2025\n11:00AM – 2:00PM \nTHE HALEKULANI\n2199 KALIA ROAD \n2025 HONOREES\nMyra English\nJack de Mello\nGary Aiko\nHiram Olsen\nAloha Dalire\nLim ‘Ohana\nThe Alama Sisters \n[/vc_column_text][/vc_column_inner][vc_column_inner width=”1/3″][vc_single_image image=”5914″ img_size=”full” alignment=”center”][/vc_column_inner][/vc_row_inner][vc_column_text]TICKET INFORMATION PRICE: $200 PER PERSON \nFOR RESERVATIONS & INFORMATION EMAIL Toni Lee at PARADE.LADY001@gmail.com \nIncludes: Buffet\, Ceremony & Live Performances. TABLES AVAILABLE FOR PURCHASE. \nPAYMENTS VIA CHECK SHOULD BY MADE TO:\nHAWAIIAN MUSIC HALL OF FAME\nPLEASE MAIL TO:\nP.O. BOX 4717\, HONOLULU\, HI 96812[/vc_column_text][/vc_column][/vc_row]
URL:https://hmhof.org/event/hmhof-lei-of-stars-2025/
LOCATION:Halekulani Hotel\, 2199 Kalia Rd\, Honolulu\, HI\, 96815\, United States
ATTACH;FMTTYPE=image/jpeg:https://hmhof.org/wp-content/uploads/2025/09/hmhof-lei-of-starts-2025.jpg
ORGANIZER;CN="Hawaiian Music Hall of Fame":MAILTO:admin@hmhof.org
END:VEVENT
BEGIN:VEVENT
DTSTART;VALUE=DATE:20241027
DTEND;VALUE=DATE:20241028
DTSTAMP:20260423T063053
CREATED:20240924T204034Z
LAST-MODIFIED:20240924T204034Z
UID:5773-1729987200-1730073599@hmhof.org
SUMMARY:Lei of Stars 2024 Brunch
DESCRIPTION:[vc_row][vc_column][vc_raw_html]JTNDc3R5bGUlM0UlMEEudHJpYmUtZXZlbnRzLWJlZm9yZS1odG1sYm4lN0IlMEElMjAlMjAlMjAlMjBkaXNwbGF5JTNBbm9uZSUyMWltcG9ydGFudCUzQiUwQSU3RCUwQS50cmliZS1ldmVudHMtZXZlbnQtaW1hZ2UlMjAlN0IlMEElMjAlMjAlMjAlMjBkaXNwbGF5JTNBbm9uZSUyMWltcG9ydGFudCUzQiUwQSU3RCUwQS5jb250YWluZXIlMjAlMjNwYWdlLXRpdGxlJTIwJTdCJTBBJTIwJTIwJTIwJTIwZGlzcGxheSUzQW5vbmUlMjFpbXBvcnRhbnQlM0IlMEElN0QlMEElMEEuYnJlYWRjcnVtYnMtY29udGFpbmVyJTIwJTdCJTBBJTIwJTIwJTIwJTIwZGlzcGxheSUzQW5vbmUlM0IlMEElN0QlMEElMEEucGFnZS10aXRsZS1ibG9jayUyMCU3QiUwQSUyMCUyMCUyMCUyMGJhY2tncm91bmQtY29sb3IlM0ElMjAlMjMwMkE4OUMlMjFpbXBvcnRhbnQlM0IlMEElMjAlMjAlMjAlMjBwYWRkaW5nLXRvcCUzQSUyMDI1cHglMjFpbXBvcnRhbnQlM0IlMEElMjAlMjAlMjAlMjBwYWRkaW5nLWJvdHRvbSUzQSUyMDI1cHglMjFpbXBvcnRhbnQlM0IlMEElN0QlMEEuYmxvY2stY29udGVudCUyMCU3QiUwQSUyMCUyMCUyMCUyMHBhZGRpbmctdG9wJTNBJTIwMCUzQiUwQSU3RCUwQSUzQyUyRnN0eWxlJTNF[/vc_raw_html][vc_row_inner equal_height=”yes” content_placement=”middle”][vc_column_inner width=”2/3″][vc_column_text css=””]Please join us this year for an exciting BRUNCH! \n#savethedate\nSunday\, October 27th\n10:30am Brunch \nHONORING 2024 INDUCTEES \nGeorge Holokai\nLedward Ka’apana\nKimo Alama Keaulana\nEdwina Noelani Kanoho Mahoe\nNā Leo Pilimehana \nAdmission $200. \nFor tickets or more information\, contact Aunty Toni.[/vc_column_text][/vc_column_inner][vc_column_inner width=”1/3″][vc_single_image image=”5775″ img_size=”full” alignment=”center” css=””][/vc_column_inner][/vc_row_inner][/vc_column][/vc_row]
URL:https://hmhof.org/event/lei-of-stars-2024-brunch/
LOCATION:‘Alohilani Resort Waikiki Beach\, 2490 Kalākaua Ave\, Honolulu\, HI\, 96815\, United States
ATTACH;FMTTYPE=image/jpeg:https://hmhof.org/wp-content/uploads/2024/09/lei-of-stars-2024-invite-flyer.jpeg
ORGANIZER;CN="Toni Lee":MAILTO:PARADE.LADY001@gmail.com
END:VEVENT
BEGIN:VEVENT
DTSTART;VALUE=DATE:20231217
DTEND;VALUE=DATE:20231218
DTSTAMP:20260423T063053
CREATED:20231027T085628Z
LAST-MODIFIED:20231102T204902Z
UID:5693-1702771200-1702857599@hmhof.org
SUMMARY:Lei of Stars 2023 Brunch
DESCRIPTION:[vc_row][vc_column][vc_raw_html]JTNDc3R5bGUlM0UlMEEudHJpYmUtZXZlbnRzLWJlZm9yZS1odG1sYm4lN0IlMEElMjAlMjAlMjAlMjBkaXNwbGF5JTNBbm9uZSUyMWltcG9ydGFudCUzQiUwQSU3RCUwQS50cmliZS1ldmVudHMtZXZlbnQtaW1hZ2UlMjAlN0IlMEElMjAlMjAlMjAlMjBkaXNwbGF5JTNBbm9uZSUyMWltcG9ydGFudCUzQiUwQSU3RCUwQS5jb250YWluZXIlMjAlMjNwYWdlLXRpdGxlJTIwJTdCJTBBJTIwJTIwJTIwJTIwZGlzcGxheSUzQW5vbmUlMjFpbXBvcnRhbnQlM0IlMEElN0QlMEElMEEuYnJlYWRjcnVtYnMtY29udGFpbmVyJTIwJTdCJTBBJTIwJTIwJTIwJTIwZGlzcGxheSUzQW5vbmUlM0IlMEElN0QlMEElMEEucGFnZS10aXRsZS1ibG9jayUyMCU3QiUwQSUyMCUyMCUyMCUyMGJhY2tncm91bmQtY29sb3IlM0ElMjAlMjMwMkE4OUMlMjFpbXBvcnRhbnQlM0IlMEElMjAlMjAlMjAlMjBwYWRkaW5nLXRvcCUzQSUyMDI1cHglMjFpbXBvcnRhbnQlM0IlMEElMjAlMjAlMjAlMjBwYWRkaW5nLWJvdHRvbSUzQSUyMDI1cHglMjFpbXBvcnRhbnQlM0IlMEElN0QlMEEuYmxvY2stY29udGVudCUyMCU3QiUwQSUyMCUyMCUyMCUyMHBhZGRpbmctdG9wJTNBJTIwMCUzQiUwQSU3RCUwQSUzQyUyRnN0eWxlJTNF[/vc_raw_html][vc_row_inner equal_height=”yes” content_placement=”middle”][vc_column_inner width=”2/3″][vc_column_text]Please join us this year for an exciting BRUNCH! \n#savethedate\nSunday\, December 17th\n10am Brunch \nHONORING 2023 INDUCTEES \nRobert Uluwehi Cazimero\nRandie Fong\nKealoha Kalama\nLouise & Luka Kaleiki\nJohnny Lum Ho\nAaron Mahi\nHonolulu Parks and\nRecreations Hula Teachers \nAdmission $200 includes: Brunch\, Ceremony\, and Live Performances. \nFor tickets or more information\, contact Aunty Toni.[/vc_column_text][/vc_column_inner][vc_column_inner width=”1/3″][vc_single_image image=”5694″ img_size=”full” alignment=”center”][/vc_column_inner][/vc_row_inner][/vc_column][/vc_row]
URL:https://hmhof.org/event/lei-of-stars-2023-brunch/
LOCATION:‘Alohilani Resort Waikiki Beach\, 2490 Kalākaua Ave\, Honolulu\, HI\, 96815\, United States
ATTACH;FMTTYPE=image/jpeg:https://hmhof.org/wp-content/uploads/2023/10/lei-of-stars-brunch-23.jpeg
ORGANIZER;CN="Toni Lee":MAILTO:PARADE.LADY001@gmail.com
END:VEVENT
BEGIN:VEVENT
DTSTART;VALUE=DATE:20221029
DTEND;VALUE=DATE:20221030
DTSTAMP:20260423T063053
CREATED:20220821T205533Z
LAST-MODIFIED:20220908T072546Z
UID:5587-1667001600-1667087999@hmhof.org
SUMMARY:Lei of Stars 2022
DESCRIPTION:[vc_row][vc_column][vc_raw_html]JTNDc3R5bGUlM0UlMEEudHJpYmUtZXZlbnRzLWJlZm9yZS1odG1sJTIwJTdCJTBBJTIwJTIwJTIwJTIwZGlzcGxheSUzQW5vbmUlM0IlMEElN0QlMEElMEEuYnJlYWRjcnVtYnMtY29udGFpbmVyJTIwJTdCJTBBJTIwJTIwJTIwJTIwZGlzcGxheSUzQW5vbmUlM0IlMEElN0QlMEElMEEucGFnZS10aXRsZS1ibG9jayUyMCU3QiUwQSUyMCUyMCUyMCUyMGJhY2tncm91bmQtY29sb3IlM0ElMjAlMjMwMkE4OUMlMjFpbXBvcnRhbnQlM0IlMEElMjAlMjAlMjAlMjBwYWRkaW5nLXRvcCUzQSUyMDI1cHglMjFpbXBvcnRhbnQlM0IlMEElMjAlMjAlMjAlMjBwYWRkaW5nLWJvdHRvbSUzQSUyMDI1cHglMjFpbXBvcnRhbnQlM0IlMEElN0QlMEElM0MlMkZzdHlsZSUzRQ==[/vc_raw_html][vc_row_inner equal_height=”yes” content_placement=”middle”][vc_column_inner width=”2/3″][vc_column_text]HONORING\n2022 Hawaiian Music Hall Of Fame Inductees:\nJules Ah See\nMāpuana and Kīhei de Silva\nKawaikapuokalani Hewett\nDavid Kalama\nLorenzo Lyons\nMary Pula’a Robins \n  \n5pm – Doors Open\n6pm – Dinner\n7pm – Induction Ceremony \n  \nINCLUDES\nDinner\, Ceremony\, and Live Performances\nFree Parking with Validation \nFor Reservations or Information\, Please E-Mail Toni Lee\nPARADE.LADY001@GMAIL.COM[/vc_column_text][/vc_column_inner][vc_column_inner width=”1/3″][vc_single_image image=”5596″ img_size=”full” alignment=”center”][/vc_column_inner][/vc_row_inner][/vc_column][/vc_row]
URL:https://hmhof.org/event/lei-of-stars-2022/
LOCATION:Halekulani Hotel\, 2199 Kalia Rd\, Honolulu\, HI\, 96815\, United States
ATTACH;FMTTYPE=image/jpeg:https://hmhof.org/wp-content/uploads/2022/08/lei-of-stars-2022-top.jpg
ORGANIZER;CN="Hawaiian Music Hall of Fame":MAILTO:admin@hmhof.org
END:VEVENT
BEGIN:VEVENT
DTSTART;VALUE=DATE:20220521
DTEND;VALUE=DATE:20220522
DTSTAMP:20260423T063053
CREATED:20220420T042127Z
LAST-MODIFIED:20220420T042511Z
UID:5510-1653091200-1653177599@hmhof.org
SUMMARY:Special event at Royal Hawaiian Center
DESCRIPTION:[vc_row][vc_column][vc_row_inner equal_height=”yes” content_placement=”middle”][vc_column_inner width=”2/3″][vc_column_text]Hawaiian Music Hall of Fame with Make Music Hawai’i Jams presents a special event at Royal Hawaiian Center and the Unveiling of the Hawaiian Music Hall of Fame Inductees for 2022.[/vc_column_text][/vc_column_inner][vc_column_inner width=”1/3″][vc_single_image image=”5511″ img_size=”full” alignment=”center”][/vc_column_inner][/vc_row_inner][vc_raw_html]JTNDc3R5bGUlM0UlMEEuc2luZ2xlLXRyaWJlX2V2ZW50cyUyMC50cmliZS1ldmVudHMtZXZlbnQtaW1hZ2UlMjAlN0IlMEElMjAlMjAlMjAlMjBkaXNwbGF5JTNBJTIwbm9uZSUzQiUwQSU3RCUwQS50cmliZS1ldmVudHMtYmVmb3JlLWh0bWwlMjAlN0IlMEElMjAlMjAlMjAlMjBkaXNwbGF5JTNBbm9uZSUzQiUwQSU3RCUwQSUwQS5icmVhZGNydW1icy1jb250YWluZXIlMjAlN0IlMEElMjAlMjAlMjAlMjBkaXNwbGF5JTNBbm9uZSUzQiUwQSU3RCUwQSUwQS5wYWdlLXRpdGxlLWJsb2NrJTIwJTdCJTBBJTIwJTIwJTIwJTIwYmFja2dyb3VuZC1jb2xvciUzQSUyMCUyMzAyQTg5QyUyMWltcG9ydGFudCUzQiUwQSUyMCUyMCUyMCUyMHBhZGRpbmctdG9wJTNBJTIwMjVweCUyMWltcG9ydGFudCUzQiUwQSUyMCUyMCUyMCUyMHBhZGRpbmctYm90dG9tJTNBJTIwMjVweCUyMWltcG9ydGFudCUzQiUwQSU3RCUwQSUzQyUyRnN0eWxlJTNF[/vc_raw_html][/vc_column][/vc_row]
URL:https://hmhof.org/event/special-event-at-royal-hawaiian-center/
LOCATION:Royal Hawaiian Center\, 2201 Kalakaua Ave\, Honolulu\, HI\, 96815\, United States
ATTACH;FMTTYPE=image/jpeg:https://hmhof.org/wp-content/uploads/2022/04/HMHOF-May-21st.jpeg
ORGANIZER;CN="Hawaiian Music Hall of Fame":MAILTO:admin@hmhof.org
END:VEVENT
BEGIN:VEVENT
DTSTART;VALUE=DATE:20201106
DTEND;VALUE=DATE:20201107
DTSTAMP:20260423T063053
CREATED:20200418T224036Z
LAST-MODIFIED:20201029T190616Z
UID:5243-1604620800-1604707199@hmhof.org
SUMMARY:Lei of Stars 2020
DESCRIPTION:[vc_row][vc_column][vc_raw_html]JTNDc3R5bGUlM0UlMEEudHJpYmUtZXZlbnRzLWJlZm9yZS1odG1sJTIwJTdCJTBBJTIwJTIwJTIwJTIwZGlzcGxheSUzQW5vbmUlM0IlMEElN0QlMEElMEEuYnJlYWRjcnVtYnMtY29udGFpbmVyJTIwJTdCJTBBJTIwJTIwJTIwJTIwZGlzcGxheSUzQW5vbmUlM0IlMEElN0QlMEElMEEucGFnZS10aXRsZS1ibG9jayUyMCU3QiUwQSUyMCUyMCUyMCUyMGJhY2tncm91bmQtY29sb3IlM0ElMjAlMjMwMkE4OUMlMjFpbXBvcnRhbnQlM0IlMEElMjAlMjAlMjAlMjBwYWRkaW5nLXRvcCUzQSUyMDI1cHglMjFpbXBvcnRhbnQlM0IlMEElMjAlMjAlMjAlMjBwYWRkaW5nLWJvdHRvbSUzQSUyMDI1cHglMjFpbXBvcnRhbnQlM0IlMEElN0QlMEElM0MlMkZzdHlsZSUzRQ==[/vc_raw_html][vc_row_inner equal_height=”yes” content_placement=”middle”][vc_column_inner width=”2/3″][vc_column_text]UPDATE:\nALOHA\nLei of Stars 2020 has been canceled due to challenges presented by the COVID-19 pandemic and the closing of The Halekulani until the summer of 2021. \nWe hope to be able to celebrate these talented honorees in 2021. \nThank You for your understanding and support.\nPlease be safe and healthy.\nMahalo Nui Loa. \nHONORING\n2019 Hawaiian Music Hall Of Fame Inductees:\nPua Ha’aheo And Kau’i Zuttermeister\nDavid “Feet” Rogers\nMartha Hohu And Leila Hohu Kiaha\nHarry B. Soria Jr.\nHawaiian Room Performers From The Lexington Hotel\, NYC \n  \nDoors Open At 5pm / Dinner Served At 6pm\nInduction Ceremony At 7pm[/vc_column_text][/vc_column_inner][vc_column_inner width=”1/3″][vc_single_image image=”5306″ img_size=”full” alignment=”center”][/vc_column_inner][/vc_row_inner][/vc_column][/vc_row]
URL:https://hmhof.org/event/lei-of-stars-2020/
LOCATION:Halekulani Hotel\, 2199 Kalia Rd\, Honolulu\, HI\, 96815\, United States
ATTACH;FMTTYPE=image/jpeg:https://hmhof.org/wp-content/uploads/2020/04/lei-of-stars-2020-top.jpg
ORGANIZER;CN="Hawaiian Music Hall of Fame":MAILTO:admin@hmhof.org
END:VEVENT
BEGIN:VEVENT
DTSTART;TZID=UTC:20200101T170000
DTEND;TZID=UTC:20200131T190000
DTSTAMP:20260423T063053
CREATED:20191123T000337Z
LAST-MODIFIED:20200114T210717Z
UID:76-1577898000-1580497200@hmhof.org
SUMMARY:Lei of Stars 2019
DESCRIPTION:[vc_row][vc_column][vc_raw_html]JTNDc3R5bGUlM0UlMEEudHJpYmUtZXZlbnRzLWJlZm9yZS1odG1sJTIwJTdCJTBBJTIwJTIwJTIwJTIwZGlzcGxheSUzQSUyMG5vbmUlM0IlMEElN0QlMEElMEEuYnJlYWRjcnVtYnMtY29udGFpbmVyJTIwJTdCJTBBJTIwJTIwJTIwJTIwZGlzcGxheSUzQSUyMG5vbmUlM0IlMEElN0QlMEElMEEucGFnZS10aXRsZS1ibG9jayUyMCU3QiUwQSUyMCUyMCUyMCUyMGJhY2tncm91bmQtY29sb3IlM0ElMjAlMjMwMkE4OUMlMjFpbXBvcnRhbnQlM0IlMEElMjAlMjAlMjAlMjBwYWRkaW5nLXRvcCUzQSUyMDI1cHglMjFpbXBvcnRhbnQlM0IlMEElMjAlMjAlMjAlMjBwYWRkaW5nLWJvdHRvbSUzQSUyMDI1cHglMjFpbXBvcnRhbnQlM0IlMEElN0QlMEElM0MlMkZzdHlsZSUzRQ==[/vc_raw_html][/vc_column][/vc_row][vc_row][vc_column][vc_column_text] \nHonoring the 2018 class of inductees:\nBeamer ‘Ohana (Nona\, Keola\, Kapono)\nBray ‘Ohana (David K. “Daddy” and Lydia “Mama”)\nDorothy Kahananui & Dorothy Gillett\nHo‘opi‘i Brothers (Solomon and Richard)\nSaichi Kawahara \nNā Lani ‘Ehā Literary Awards\nThe Queen’s Songbook (Barbara Smith)\nHe Mele Aloha (Carol Wilcox\, Kimo Hussey\, Vicky Hollinger\, Puakea Nogelmeier)[/vc_column_text][/vc_column][/vc_row]
URL:https://hmhof.org/event/lei-of-stars-2019/
LOCATION:Halekulani Hotel\, 2199 Kalia Rd\, Honolulu\, HI\, 96815\, United States
ATTACH;FMTTYPE=image/jpeg:https://hmhof.org/wp-content/uploads/2019/11/test-event.jpg
END:VEVENT
END:VCALENDAR